0.20000000
0.00000000
0.00000000
-0.20000000
699000.10000000
6916999.90000000
