0.20000000
0.00000000
0.00000000
-0.20000000
704000.10000000
6903999.90000000
