0.20000000
0.00000000
0.00000000
-0.20000000
705000.10000000
6894999.90000000
