0.20000000
0.00000000
0.00000000
-0.20000000
709000.10000000
6924999.90000000
