0.20000000
0.00000000
0.00000000
-0.20000000
711000.10000000
6955999.90000000
