0.20000000
0.00000000
0.00000000
-0.20000000
712000.10000000
6980999.90000000
