0.20000000
0.00000000
0.00000000
-0.20000000
716000.10000000
6970999.90000000
