0.20000000
0.00000000
0.00000000
-0.20000000
721000.10000000
6868999.90000000
