0.20000000
0.00000000
0.00000000
-0.20000000
722000.10000000
6928999.90000000
