0.20000000
0.00000000
0.00000000
-0.20000000
725000.10000000
6899999.90000000
