0.20000000
0.00000000
0.00000000
-0.20000000
726000.10000000
6875999.90000000
