0.20000000
0.00000000
0.00000000
-0.20000000
727000.10000000
6971999.90000000
