0.20000000
0.00000000
0.00000000
-0.20000000
729000.10000000
6892999.90000000
