0.20000000
0.00000000
0.00000000
-0.20000000
730000.10000000
6902999.90000000
