0.20000000
0.00000000
0.00000000
-0.20000000
732000.10000000
6911999.90000000
