0.20000000
0.00000000
0.00000000
-0.20000000
735000.10000000
6863999.90000000
