0.20000000
0.00000000
0.00000000
-0.20000000
736000.10000000
6876999.90000000
