0.20000000
0.00000000
0.00000000
-0.20000000
737000.10000000
6945999.90000000
