0.20000000
0.00000000
0.00000000
-0.20000000
739000.10000000
6979999.90000000
