0.20000000
0.00000000
0.00000000
-0.20000000
743000.10000000
6972999.90000000
