0.20000000
0.00000000
0.00000000
-0.20000000
744000.10000000
6880999.90000000
