0.20000000
0.00000000
0.00000000
-0.20000000
745000.10000000
6896999.90000000
