0.20000000
0.00000000
0.00000000
-0.20000000
749000.10000000
6996999.90000000
