0.20000000
0.00000000
0.00000000
-0.20000000
750000.10000000
6915999.90000000
