0.20000000
0.00000000
0.00000000
-0.20000000
752000.10000000
6925999.90000000
