0.20000000
0.00000000
0.00000000
-0.20000000
755000.10000000
6959999.90000000
