0.20000000
0.00000000
0.00000000
-0.20000000
759000.10000000
6930999.90000000
