0.20000000
0.00000000
0.00000000
-0.20000000
760000.10000000
6923999.90000000
