0.20000000
0.00000000
0.00000000
-0.20000000
763000.10000000
6963999.90000000
