0.20000000
0.00000000
0.00000000
-0.20000000
764000.10000000
6962999.90000000
