0.20000000
0.00000000
0.00000000
-0.20000000
771000.10000000
6928999.90000000
