0.20000000
0.00000000
0.00000000
-0.20000000
772000.10000000
6991999.90000000
