0.20000000
0.00000000
0.00000000
-0.20000000
773000.10000000
6918999.90000000
