0.20000000
0.00000000
0.00000000
-0.20000000
777000.10000000
6966999.90000000
