0.20000000
0.00000000
0.00000000
-0.20000000
780000.10000000
6969999.90000000
