0.20000000
0.00000000
0.00000000
-0.20000000
789000.10000000
6967999.90000000
