0.20000000
0.00000000
0.00000000
-0.20000000
605000.10000000
6934999.90000000
