0.20000000
0.00000000
0.00000000
-0.20000000
606000.10000000
6961999.90000000
