0.20000000
0.00000000
0.00000000
-0.20000000
609000.10000000
6954999.90000000
