0.20000000
0.00000000
0.00000000
-0.20000000
619000.10000000
6921999.90000000
