0.20000000
0.00000000
0.00000000
-0.20000000
620000.10000000
6926999.90000000
