0.20000000
0.00000000
0.00000000
-0.20000000
621000.10000000
6900999.90000000
