0.20000000
0.00000000
0.00000000
-0.20000000
625000.10000000
6897999.90000000
