0.20000000
0.00000000
0.00000000
-0.20000000
631000.10000000
6914999.90000000
