0.20000000
0.00000000
0.00000000
-0.20000000
634000.10000000
6944999.90000000
