0.20000000
0.00000000
0.00000000
-0.20000000
635000.10000000
6937999.90000000
