0.20000000
0.00000000
0.00000000
-0.20000000
637000.10000000
6912999.90000000
