0.20000000
0.00000000
0.00000000
-0.20000000
645000.10000000
6902999.90000000
