0.20000000
0.00000000
0.00000000
-0.20000000
649000.10000000
6910999.90000000
