0.20000000
0.00000000
0.00000000
-0.20000000
652000.10000000
6941999.90000000
